BEGIN:VCALENDAR
VERSION:2.0
PRODID:-//Colegio Alfonsino de San Pedro, A.C. - ECPv6.15.20//NONSGML v1.0//EN
CALSCALE:GREGORIAN
METHOD:PUBLISH
X-ORIGINAL-URL:https://alfonsino.edu.mx
X-WR-CALDESC:Events for Colegio Alfonsino de San Pedro, A.C.
REFRESH-INTERVAL;VALUE=DURATION:PT1H
X-Robots-Tag:noindex
X-PUBLISHED-TTL:PT1H
BEGIN:VTIMEZONE
TZID:America/Mexico_City
BEGIN:STANDARD
TZOFFSETFROM:-0600
TZOFFSETTO:-0600
TZNAME:CST
DTSTART:20240101T000000
END:STANDARD
END:VTIMEZONE
BEGIN:VEVENT
DTSTART;VALUE=DATE:20260330
DTEND;VALUE=DATE:20260413
DTSTAMP:20260419T223400
CREATED:20260203T113549Z
LAST-MODIFIED:20260203T113549Z
UID:16336-1774828800-1776038399@alfonsino.edu.mx
SUMMARY:EASTER VACATIONS
DESCRIPTION:
URL:https://alfonsino.edu.mx/event/easter-vacations/
END:VEVENT
BEGIN:VEVENT
DTSTART;VALUE=DATE:20260327
DTEND;VALUE=DATE:20260328
DTSTAMP:20260419T223400
CREATED:20260203T113436Z
LAST-MODIFIED:20260203T113436Z
UID:16334-1774569600-1774655999@alfonsino.edu.mx
SUMMARY:2nd FEEDBACK
DESCRIPTION:
URL:https://alfonsino.edu.mx/event/2nd-feedback/
END:VEVENT
BEGIN:VEVENT
DTSTART;VALUE=DATE:20260326
DTEND;VALUE=DATE:20260327
DTSTAMP:20260419T223400
CREATED:20260203T113023Z
LAST-MODIFIED:20260203T113226Z
UID:16332-1774483200-1774569599@alfonsino.edu.mx
SUMMARY:PRESCHOOL EASTER HUNT
DESCRIPTION:
URL:https://alfonsino.edu.mx/event/preschool-easter-hunt/
END:VEVENT
BEGIN:VEVENT
DTSTART;VALUE=DATE:20260324
DTEND;VALUE=DATE:20260327
DTSTAMP:20260419T223400
CREATED:20260203T112928Z
LAST-MODIFIED:20260206T181755Z
UID:16330-1774310400-1774569599@alfonsino.edu.mx
SUMMARY:PRESCHOOL OPEN CLASSES
DESCRIPTION:2K “A” – Tuesday\, March 24 | 8:10 a.m.\n3K “B” – Tuesday\, March 24 | 8:10 a.m.\nPre-K – Tuesday\, March 24 | 11:30 a.m. \n2K “B” – Wednesday\, March 25 | 8:10 a.m.\n3K “A” – Wednesday\, March 25 | 8:10 a.m.Nursery – Wednesday\, March 25 | 11:30 a.m. \n1K – Thursday\, March 26 | 8:40 a.m.
URL:https://alfonsino.edu.mx/event/preschool-open-classes/
END:VEVENT
BEGIN:VEVENT
DTSTART;VALUE=DATE:20260318
DTEND;VALUE=DATE:20260319
DTSTAMP:20260419T223400
CREATED:20260203T112508Z
LAST-MODIFIED:20260203T112508Z
UID:16326-1773792000-1773878399@alfonsino.edu.mx
SUMMARY:ANNUAL PICTURE Elementary & Jr High
DESCRIPTION:
URL:https://alfonsino.edu.mx/event/annual-picture-elementary-jr-high/
END:VEVENT
BEGIN:VEVENT
DTSTART;VALUE=DATE:20260317
DTEND;VALUE=DATE:20260318
DTSTAMP:20260419T223400
CREATED:20260203T112349Z
LAST-MODIFIED:20260203T112349Z
UID:16324-1773705600-1773791999@alfonsino.edu.mx
SUMMARY:ANNUAL PICTURE Preschool
DESCRIPTION:
URL:https://alfonsino.edu.mx/event/annual-picture-preschool/
END:VEVENT
BEGIN:VEVENT
DTSTART;VALUE=DATE:20260316
DTEND;VALUE=DATE:20260317
DTSTAMP:20260419T223400
CREATED:20260203T112232Z
LAST-MODIFIED:20260203T112322Z
UID:16322-1773619200-1773705599@alfonsino.edu.mx
SUMMARY:Day Off
DESCRIPTION:No Classes
URL:https://alfonsino.edu.mx/event/day-off-3/
END:VEVENT
BEGIN:VEVENT
DTSTART;VALUE=DATE:20260311
DTEND;VALUE=DATE:20260312
DTSTAMP:20260419T223400
CREATED:20260203T111934Z
LAST-MODIFIED:20260203T112030Z
UID:16318-1773187200-1773273599@alfonsino.edu.mx
SUMMARY:4Th  Grade Elementary OPEN CLASSES
DESCRIPTION:AUTHORS IN ACTION
URL:https://alfonsino.edu.mx/event/4th-grade-elementary-open-classes/
END:VEVENT
BEGIN:VEVENT
DTSTART;VALUE=DATE:20260310
DTEND;VALUE=DATE:20260311
DTSTAMP:20260419T223400
CREATED:20260203T111714Z
LAST-MODIFIED:20260203T111839Z
UID:16315-1773100800-1773187199@alfonsino.edu.mx
SUMMARY:5Th  Grade Elementary OPEN CLASSES
DESCRIPTION:
URL:https://alfonsino.edu.mx/event/5th-grade-elementary-open-classes/
END:VEVENT
BEGIN:VEVENT
DTSTART;VALUE=DATE:20260309
DTEND;VALUE=DATE:20260310
DTSTAMP:20260419T223400
CREATED:20260203T112756Z
LAST-MODIFIED:20260225T182801Z
UID:16328-1773014400-1773100799@alfonsino.edu.mx
SUMMARY:9TH GRADE CLASS PHOTO SHOOT
DESCRIPTION:
URL:https://alfonsino.edu.mx/event/9th-grade-class-photo-shoot/
END:VEVENT
BEGIN:VEVENT
DTSTART;VALUE=DATE:20260306
DTEND;VALUE=DATE:20260307
DTSTAMP:20260419T223400
CREATED:20260203T111503Z
LAST-MODIFIED:20260225T183600Z
UID:16313-1772755200-1772841599@alfonsino.edu.mx
SUMMARY:CASP WOMEN´S DAY
DESCRIPTION:Wear purple 💜
URL:https://alfonsino.edu.mx/event/casp-womens-day-celebration/
END:VEVENT
BEGIN:VEVENT
DTSTART;VALUE=DATE:20260305
DTEND;VALUE=DATE:20260306
DTSTAMP:20260419T223400
CREATED:20260203T111258Z
LAST-MODIFIED:20260203T111258Z
UID:16311-1772668800-1772755199@alfonsino.edu.mx
SUMMARY:Jr High SCIENCE FAIR
DESCRIPTION:
URL:https://alfonsino.edu.mx/event/jr-high-science-fair/
END:VEVENT
BEGIN:VEVENT
DTSTART;VALUE=DATE:20260302
DTEND;VALUE=DATE:20260307
DTSTAMP:20260419T223400
CREATED:20260203T111128Z
LAST-MODIFIED:20260203T111128Z
UID:16309-1772409600-1772841599@alfonsino.edu.mx
SUMMARY:2nd PERIOD EXAMS
DESCRIPTION:Elementary & Jr. High
URL:https://alfonsino.edu.mx/event/2nd-period-exams/
END:VEVENT
BEGIN:VEVENT
DTSTART;VALUE=DATE:20260227
DTEND;VALUE=DATE:20260228
DTSTAMP:20260419T223400
CREATED:20260119T221746Z
LAST-MODIFIED:20260119T221911Z
UID:16299-1772150400-1772236799@alfonsino.edu.mx
SUMMARY:PROFESSIONAL DEVELOPMENT
DESCRIPTION:No classes
URL:https://alfonsino.edu.mx/event/professional-development-4/
END:VEVENT
BEGIN:VEVENT
DTSTART;VALUE=DATE:20260213
DTEND;VALUE=DATE:20260214
DTSTAMP:20260419T223400
CREATED:20260119T221337Z
LAST-MODIFIED:20260119T221337Z
UID:16295-1770940800-1771027199@alfonsino.edu.mx
SUMMARY:Valentine's Day
DESCRIPTION:
URL:https://alfonsino.edu.mx/event/valentines-day/
END:VEVENT
BEGIN:VEVENT
DTSTART;VALUE=DATE:20260202
DTEND;VALUE=DATE:20260203
DTSTAMP:20260419T223400
CREATED:20260119T221524Z
LAST-MODIFIED:20260119T221524Z
UID:16297-1769990400-1770076799@alfonsino.edu.mx
SUMMARY:Day Off
DESCRIPTION:No Classes
URL:https://alfonsino.edu.mx/event/day-off-2/
END:VEVENT
BEGIN:VEVENT
DTSTART;VALUE=DATE:20260130
DTEND;VALUE=DATE:20260131
DTSTAMP:20260419T223400
CREATED:20251006T155615Z
LAST-MODIFIED:20251006T155615Z
UID:15975-1769731200-1769817599@alfonsino.edu.mx
SUMMARY:PROFESSIONAL DEVELOPMENT
DESCRIPTION:No classes
URL:https://alfonsino.edu.mx/event/professional-development-3/
END:VEVENT
BEGIN:VEVENT
DTSTART;TZID=America/Mexico_City:20260129T080000
DTEND;TZID=America/Mexico_City:20260129T090000
DTSTAMP:20260419T223400
CREATED:20260119T221137Z
LAST-MODIFIED:20260119T221137Z
UID:16293-1769673600-1769677200@alfonsino.edu.mx
SUMMARY:Conferencia Padres de Familia 6th to 9th Jr High
DESCRIPTION:“Educación en la Sexualidad” Impartida por: Lic. Andrea Alanis Urdiain
URL:https://alfonsino.edu.mx/event/conferencia-padres-de-familia-6th-to-9th-jr-high/
END:VEVENT
BEGIN:VEVENT
DTSTART;TZID=America/Mexico_City:20260128T080000
DTEND;TZID=America/Mexico_City:20260128T090000
DTSTAMP:20260419T223400
CREATED:20260119T220904Z
LAST-MODIFIED:20260119T221220Z
UID:16291-1769587200-1769590800@alfonsino.edu.mx
SUMMARY:Conferencia Padres de Familia 4th & 5th Elementary
DESCRIPTION:“Educación en la Sexualidad” Impartida por Lic. Andrea Alanis Urdian
URL:https://alfonsino.edu.mx/event/conferencia-padres-de-familia-4th-5th-elementary/
END:VEVENT
BEGIN:VEVENT
DTSTART;TZID=America/Mexico_City:20260122T080000
DTEND;TZID=America/Mexico_City:20260122T090000
DTSTAMP:20260419T223400
CREATED:20260119T205944Z
LAST-MODIFIED:20260119T205944Z
UID:16287-1769068800-1769072400@alfonsino.edu.mx
SUMMARY:OPEN CLASSES 3rd Grade Elementary
DESCRIPTION:“Genius Hour”
URL:https://alfonsino.edu.mx/event/open-classes-3rd-grade-elementary/
END:VEVENT
BEGIN:VEVENT
DTSTART;TZID=America/Mexico_City:20260121T080000
DTEND;TZID=America/Mexico_City:20260121T090000
DTSTAMP:20260419T223400
CREATED:20260119T205656Z
LAST-MODIFIED:20260119T205656Z
UID:16285-1768982400-1768986000@alfonsino.edu.mx
SUMMARY:OPEN CLASSES 2ng Grade Elementary
DESCRIPTION:
URL:https://alfonsino.edu.mx/event/open-classes-2ng-grade-elementary/
END:VEVENT
BEGIN:VEVENT
DTSTART;TZID=America/Mexico_City:20260120T080000
DTEND;TZID=America/Mexico_City:20260122T090000
DTSTAMP:20260419T223400
CREATED:20260119T210212Z
LAST-MODIFIED:20260119T210212Z
UID:16289-1768896000-1769072400@alfonsino.edu.mx
SUMMARY:WISP BAZAAR
DESCRIPTION:
URL:https://alfonsino.edu.mx/event/wisp-bazaar/
END:VEVENT
BEGIN:VEVENT
DTSTART;TZID=America/Mexico_City:20260120T080000
DTEND;TZID=America/Mexico_City:20260120T090000
DTSTAMP:20260419T223400
CREATED:20260119T205606Z
LAST-MODIFIED:20260119T205606Z
UID:16283-1768896000-1768899600@alfonsino.edu.mx
SUMMARY:OPEN CLASSES 1st Grade Elementary
DESCRIPTION:
URL:https://alfonsino.edu.mx/event/open-classes-1st-grade-elementary/
END:VEVENT
BEGIN:VEVENT
DTSTART;VALUE=DATE:20260108
DTEND;VALUE=DATE:20260109
DTSTAMP:20260419T223400
CREATED:20251006T154939Z
LAST-MODIFIED:20251006T154939Z
UID:15972-1767830400-1767916799@alfonsino.edu.mx
SUMMARY:BACK TO SCHOOL
DESCRIPTION:Pijama Day!
URL:https://alfonsino.edu.mx/event/back-to-school/
END:VEVENT
BEGIN:VEVENT
DTSTART;VALUE=DATE:20251222
DTEND;VALUE=DATE:20260108
DTSTAMP:20260419T223400
CREATED:20251006T153630Z
LAST-MODIFIED:20251006T153824Z
UID:15970-1766361600-1767830399@alfonsino.edu.mx
SUMMARY:CHRISTMAS VACATION
DESCRIPTION:
URL:https://alfonsino.edu.mx/event/christmas-vacation/
END:VEVENT
BEGIN:VEVENT
DTSTART;VALUE=DATE:20251219
DTEND;VALUE=DATE:20251220
DTSTAMP:20260419T223400
CREATED:20251006T153337Z
LAST-MODIFIED:20251006T153337Z
UID:15968-1766102400-1766188799@alfonsino.edu.mx
SUMMARY:CHRISTMAS PARTY
DESCRIPTION:Early Dismissal
URL:https://alfonsino.edu.mx/event/christmas-party/
END:VEVENT
BEGIN:VEVENT
DTSTART;VALUE=DATE:20251217
DTEND;VALUE=DATE:20251219
DTSTAMP:20260419T223400
CREATED:20251006T172825Z
LAST-MODIFIED:20251006T172954Z
UID:15978-1765929600-1766102399@alfonsino.edu.mx
SUMMARY:JR. HIGH “THE WIZARD OF OZ” PRESENTATION
DESCRIPTION:Join us for a magical afternoon event as our Jr. High students bring The Wizard of Oz to life on stage! 🎭💫There will be multiple performances — stay tuned for dates and details! 🌟
URL:https://alfonsino.edu.mx/event/jr-high-the-wizard-of-oz-presentation/
END:VEVENT
BEGIN:VEVENT
DTSTART;TZID=America/Mexico_City:20251212T090000
DTEND;TZID=America/Mexico_City:20251212T090000
DTSTAMP:20260419T223400
CREATED:20250929T183437Z
LAST-MODIFIED:20251001T145607Z
UID:15962-1765530000-1765530000@alfonsino.edu.mx
SUMMARY:PRESCHOOL CHRISTMAS FESTIVAL 🎄✨
DESCRIPTION:
URL:https://alfonsino.edu.mx/event/preschool-christmas-festival-%f0%9f%8e%84%e2%9c%a8/
END:VEVENT
BEGIN:VEVENT
DTSTART;TZID=America/Mexico_City:20251205T180000
DTEND;TZID=America/Mexico_City:20251205T180000
DTSTAMP:20260419T223400
CREATED:20250929T182734Z
LAST-MODIFIED:20251006T172111Z
UID:15958-1764957600-1764957600@alfonsino.edu.mx
SUMMARY:ELEMENTARY MUSIC PRESENTATION & TREE LIGHTING 🎶🎄
DESCRIPTION:
URL:https://alfonsino.edu.mx/event/elementary-music-presentation-tree-lighting-%f0%9f%8e%b6%f0%9f%8e%84/
END:VEVENT
BEGIN:VEVENT
DTSTART;VALUE=DATE:20251128
DTEND;VALUE=DATE:20251129
DTSTAMP:20260419T223400
CREATED:20250929T182916Z
LAST-MODIFIED:20250929T182916Z
UID:15960-1764288000-1764374399@alfonsino.edu.mx
SUMMARY:1ST FEEDBACK
DESCRIPTION:No classes
URL:https://alfonsino.edu.mx/event/1st-feedback/
END:VEVENT
END:VCALENDAR