BEGIN:VCALENDAR
VERSION:2.0
PRODID:-//Colegio Alfonsino de San Pedro, A.C. - ECPv6.15.20//NONSGML v1.0//EN
CALSCALE:GREGORIAN
METHOD:PUBLISH
X-WR-CALNAME:Colegio Alfonsino de San Pedro, A.C.
X-ORIGINAL-URL:https://alfonsino.edu.mx
X-WR-CALDESC:Events for Colegio Alfonsino de San Pedro, A.C.
REFRESH-INTERVAL;VALUE=DURATION:PT1H
X-Robots-Tag:noindex
X-PUBLISHED-TTL:PT1H
BEGIN:VTIMEZONE
TZID:America/Mexico_City
BEGIN:STANDARD
TZOFFSETFROM:-0600
TZOFFSETTO:-0600
TZNAME:CST
DTSTART:20250101T000000
END:STANDARD
END:VTIMEZONE
BEGIN:VEVENT
DTSTART;VALUE=DATE:20260427
DTEND;VALUE=DATE:20260430
DTSTAMP:20260419T223000
CREATED:20260203T113735Z
LAST-MODIFIED:20260203T113735Z
UID:16338-1777248000-1777507199@alfonsino.edu.mx
SUMMARY:CASP WEEK
DESCRIPTION:
URL:https://alfonsino.edu.mx/event/casp-week/
END:VEVENT
BEGIN:VEVENT
DTSTART;VALUE=DATE:20260427
DTEND;VALUE=DATE:20260430
DTSTAMP:20260419T223000
CREATED:20260417T160202Z
LAST-MODIFIED:20260417T160202Z
UID:16460-1777248000-1777507199@alfonsino.edu.mx
SUMMARY:CASP WEEK
DESCRIPTION:
URL:https://alfonsino.edu.mx/event/casp-week-2/
END:VEVENT
BEGIN:VEVENT
DTSTART;VALUE=DATE:20260429
DTEND;VALUE=DATE:20260430
DTSTAMP:20260419T223000
CREATED:20260203T113759Z
LAST-MODIFIED:20260203T113759Z
UID:16340-1777420800-1777507199@alfonsino.edu.mx
SUMMARY:CASP FEST
DESCRIPTION:
URL:https://alfonsino.edu.mx/event/casp-fest/
END:VEVENT
BEGIN:VEVENT
DTSTART;VALUE=DATE:20260501
DTEND;VALUE=DATE:20260502
DTSTAMP:20260419T223000
CREATED:20260203T114032Z
LAST-MODIFIED:20260203T114032Z
UID:16344-1777593600-1777679999@alfonsino.edu.mx
SUMMARY:Day Off
DESCRIPTION:No Classes
URL:https://alfonsino.edu.mx/event/day-off-4/
END:VEVENT
BEGIN:VEVENT
DTSTART;VALUE=DATE:20260505
DTEND;VALUE=DATE:20260506
DTSTAMP:20260419T223000
CREATED:20260203T114128Z
LAST-MODIFIED:20260203T114128Z
UID:16346-1777939200-1778025599@alfonsino.edu.mx
SUMMARY:Day Off
DESCRIPTION:No Classes
URL:https://alfonsino.edu.mx/event/day-off-5/
END:VEVENT
BEGIN:VEVENT
DTSTART;VALUE=DATE:20260508
DTEND;VALUE=DATE:20260509
DTSTAMP:20260419T223000
CREATED:20260203T114252Z
LAST-MODIFIED:20260417T160051Z
UID:16348-1778198400-1778284799@alfonsino.edu.mx
SUMMARY:MOTHER'S DAY
DESCRIPTION:Preschool 9:00 am Canchas Basketball \nElementary 8:20 am Auditorio Preschool
URL:https://alfonsino.edu.mx/event/mothers-day/
END:VEVENT
BEGIN:VEVENT
DTSTART;VALUE=DATE:20260513
DTEND;VALUE=DATE:20260514
DTSTAMP:20260419T223000
CREATED:20260203T114336Z
LAST-MODIFIED:20260203T114336Z
UID:16350-1778630400-1778716799@alfonsino.edu.mx
SUMMARY:PRESCHOOL FIELD TRIP
DESCRIPTION:
URL:https://alfonsino.edu.mx/event/preschool-field-trip/
END:VEVENT
BEGIN:VEVENT
DTSTART;VALUE=DATE:20260514
DTEND;VALUE=DATE:20260515
DTSTAMP:20260419T223000
CREATED:20260203T114432Z
LAST-MODIFIED:20260203T114432Z
UID:16352-1778716800-1778803199@alfonsino.edu.mx
SUMMARY:EARLY DISMISSAL
DESCRIPTION:
URL:https://alfonsino.edu.mx/event/early-dismissal/
END:VEVENT
BEGIN:VEVENT
DTSTART;VALUE=DATE:20260515
DTEND;VALUE=DATE:20260516
DTSTAMP:20260419T223000
CREATED:20260203T114608Z
LAST-MODIFIED:20260203T114608Z
UID:16354-1778803200-1778889599@alfonsino.edu.mx
SUMMARY:DAY OFF
DESCRIPTION:Teacher’s Day – No Classes
URL:https://alfonsino.edu.mx/event/day-off-6/
END:VEVENT
BEGIN:VEVENT
DTSTART;VALUE=DATE:20260529
DTEND;VALUE=DATE:20260530
DTSTAMP:20260419T223000
CREATED:20260203T114652Z
LAST-MODIFIED:20260203T114652Z
UID:16356-1780012800-1780099199@alfonsino.edu.mx
SUMMARY:PROFESSIONAL DEVELOPMENT
DESCRIPTION:No Classes
URL:https://alfonsino.edu.mx/event/professional-development-6/
END:VEVENT
BEGIN:VEVENT
DTSTART;VALUE=DATE:20260601
DTEND;VALUE=DATE:20260606
DTSTAMP:20260419T223000
CREATED:20260203T114835Z
LAST-MODIFIED:20260203T114835Z
UID:16358-1780272000-1780703999@alfonsino.edu.mx
SUMMARY:3rd PERIOD EXAMS
DESCRIPTION:Elementary & Jr. High
URL:https://alfonsino.edu.mx/event/3rd-period-exams/
END:VEVENT
BEGIN:VEVENT
DTSTART;VALUE=DATE:20260605
DTEND;VALUE=DATE:20260606
DTSTAMP:20260419T223000
CREATED:20260203T114948Z
LAST-MODIFIED:20260203T114948Z
UID:16360-1780617600-1780703999@alfonsino.edu.mx
SUMMARY:PRESCHOOL FESTIVAL
DESCRIPTION:
URL:https://alfonsino.edu.mx/event/preschool-festival/
END:VEVENT
BEGIN:VEVENT
DTSTART;VALUE=DATE:20260610
DTEND;VALUE=DATE:20260611
DTSTAMP:20260419T223000
CREATED:20260211T174211Z
LAST-MODIFIED:20260211T174211Z
UID:16371-1781049600-1781135999@alfonsino.edu.mx
SUMMARY:GREASE PLAY JR HIGH 6TH & 7TH GRADE
DESCRIPTION:
URL:https://alfonsino.edu.mx/event/grease-play-jr-high-6th-7th-grade/
END:VEVENT
BEGIN:VEVENT
DTSTART;VALUE=DATE:20260611
DTEND;VALUE=DATE:20260612
DTSTAMP:20260419T223000
CREATED:20260211T174240Z
LAST-MODIFIED:20260211T174240Z
UID:16373-1781136000-1781222399@alfonsino.edu.mx
SUMMARY:GREASE PLAY JR HIGH 8TH & 9TH GRADE
DESCRIPTION:
URL:https://alfonsino.edu.mx/event/grease-play-jr-high-8th-9th-grade/
END:VEVENT
BEGIN:VEVENT
DTSTART;VALUE=DATE:20260612
DTEND;VALUE=DATE:20260613
DTSTAMP:20260419T223000
CREATED:20260211T174347Z
LAST-MODIFIED:20260211T174347Z
UID:16375-1781222400-1781308799@alfonsino.edu.mx
SUMMARY:FAREWELL 9TH GRADE JR HIGH
DESCRIPTION:
URL:https://alfonsino.edu.mx/event/farewell-9th-grade-jr-high/
END:VEVENT
BEGIN:VEVENT
DTSTART;VALUE=DATE:20260617
DTEND;VALUE=DATE:20260618
DTSTAMP:20260419T223000
CREATED:20260211T174435Z
LAST-MODIFIED:20260325T215157Z
UID:16377-1781654400-1781740799@alfonsino.edu.mx
SUMMARY:PRESCHOOL 3K GRADUATION
DESCRIPTION:
URL:https://alfonsino.edu.mx/event/preschool-3k-graduation/
END:VEVENT
BEGIN:VEVENT
DTSTART;VALUE=DATE:20260619
DTEND;VALUE=DATE:20260620
DTSTAMP:20260419T223000
CREATED:20260211T174532Z
LAST-MODIFIED:20260211T174532Z
UID:16379-1781827200-1781913599@alfonsino.edu.mx
SUMMARY:3rd FEEDBACK
DESCRIPTION:
URL:https://alfonsino.edu.mx/event/3rd-feedback/
END:VEVENT
BEGIN:VEVENT
DTSTART;VALUE=DATE:20260623
DTEND;VALUE=DATE:20260624
DTSTAMP:20260419T223000
CREATED:20260211T174621Z
LAST-MODIFIED:20260211T174621Z
UID:16381-1782172800-1782259199@alfonsino.edu.mx
SUMMARY:ANNUAL AWARDS / JR HIGH 9TH GRADE GRADUATION
DESCRIPTION:
URL:https://alfonsino.edu.mx/event/annual-awards-jr-high-9th-grade-graduation/
END:VEVENT
END:VCALENDAR